BEGIN:VCALENDAR
VERSION:2.0
PRODID:-//Tim Cherry - ECPv6.15.18//NONSGML v1.0//EN
CALSCALE:GREGORIAN
METHOD:PUBLISH
X-WR-CALNAME:Tim Cherry
X-ORIGINAL-URL:https://timcherry.com
X-WR-CALDESC:Events for Tim Cherry
REFRESH-INTERVAL;VALUE=DURATION:PT1H
X-Robots-Tag:noindex
X-PUBLISHED-TTL:PT1H
BEGIN:VTIMEZONE
TZID:UTC
BEGIN:STANDARD
TZOFFSETFROM:+0000
TZOFFSETTO:+0000
TZNAME:UTC
DTSTART:20210101T000000
END:STANDARD
END:VTIMEZONE
BEGIN:VEVENT
DTSTART;VALUE=DATE:20220212
DTEND;VALUE=DATE:20220328
DTSTAMP:20260424T043003
CREATED:20200208T093010Z
LAST-MODIFIED:20220218T030646Z
UID:1905-1644624000-1648425599@timcherry.com
SUMMARY:Masters of the American West - Autry Museum of the American West
DESCRIPTION:Masters of the American West \n\n\nMasters 2022—February 12 through March 27\, 2022. \nSee and purchase new works by over 60 of the top contemporary painters and sculptors working in the Western genre\, at the Autry’s 25th annual Masters of the American West® Art Exhibition and Sale. Find details about the exhibition and the Art Sale Weekend (February 25–26)\, which includes an artists’ reception\, artist talks\, an awards presentation\, a fixed-price art sale\, and an after-sale soiree. \nThis prestigious exhibition and sale showcases paintings and sculptures by nationally recognized artists. Proceeds from Masters supports the Campaign for the Autry\, which helps provide essential support for the Autry’s educational programs\, innovative exhibitions\, and over 100 public events annually. \nONLINE SALE FOR ALL ARTWORK are posted in the online catalog.\nMasters of the American West® Art Exhibition and Sale: \nhttps://masters.theautry.org/ \nQuestions? Please see our FAQ pages for more information.
URL:https://timcherry.com/event/master-of-the-american-west-exhibition-and-sale/
LOCATION:Masters of the American West Autry national Center\, 4700 Western Heritage Way\, Los Angeles\, CA\, 90027\, United States
ATTACH;FMTTYPE=image/jpeg:https://timcherry.com/wp-content/uploads/2021/08/Garden-Edge_MG_1543-150.jpg
END:VEVENT
END:VCALENDAR